BEGIN:VCALENDAR
VERSION:2.0
PRODID:-//Downtown Downers Grove Management Corp. - ECPv6.15.18//NONSGML v1.0//EN
CALSCALE:GREGORIAN
METHOD:PUBLISH
X-ORIGINAL-URL:https://www.downtowndg.org
X-WR-CALDESC:Events for Downtown Downers Grove Management Corp.
REFRESH-INTERVAL;VALUE=DURATION:PT1H
X-Robots-Tag:noindex
X-PUBLISHED-TTL:PT1H
BEGIN:VTIMEZONE
TZID:America/Chicago
BEGIN:DAYLIGHT
TZOFFSETFROM:-0600
TZOFFSETTO:-0500
TZNAME:CDT
DTSTART:20250309T080000
END:DAYLIGHT
BEGIN:STANDARD
TZOFFSETFROM:-0500
TZOFFSETTO:-0600
TZNAME:CST
DTSTART:20251102T070000
END:STANDARD
BEGIN:DAYLIGHT
TZOFFSETFROM:-0600
TZOFFSETTO:-0500
TZNAME:CDT
DTSTART:20260308T080000
END:DAYLIGHT
BEGIN:STANDARD
TZOFFSETFROM:-0500
TZOFFSETTO:-0600
TZNAME:CST
DTSTART:20261101T070000
END:STANDARD
BEGIN:DAYLIGHT
TZOFFSETFROM:-0600
TZOFFSETTO:-0500
TZNAME:CDT
DTSTART:20270314T080000
END:DAYLIGHT
BEGIN:STANDARD
TZOFFSETFROM:-0500
TZOFFSETTO:-0600
TZNAME:CST
DTSTART:20271107T070000
END:STANDARD
END:VTIMEZONE
BEGIN:VEVENT
DTSTART;VALUE=DATE:20260130
DTEND;VALUE=DATE:20260202
DTSTAMP:20260421T063958
CREATED:20260126T194528Z
LAST-MODIFIED:20260126T195129Z
UID:24351-1769731200-1769990399@www.downtowndg.org
SUMMARY:Ice Festival Downtown Downers Grove
DESCRIPTION:Join us Downtown Downers Grove for the annual Ice Festival\, January 30-February 1\, 2026. This year there will be nearly 60 ice sculptures to visit! Live carving demonstrations happen on Friday\, 5:30-7:30pm at the corner of Main and Curtiss and on Saturday and Sunday\, 11am-3pm at the Main Street Train Station. \n\n\nThese amazing pieces of ice art will include an angel\, a robot\, a shamrock\, figure skater and the fan favorite kissing booth will return this year. Keep your eye out for a few fun ice games. Map of sculptures can be found here. \nPictures from the 2025 Ice Festival.
URL:https://www.downtowndg.org/event/ice-festival-downtown-downers-grove/
LOCATION:Downtown Downers Grove
END:VEVENT
BEGIN:VEVENT
DTSTART;TZID=America/Chicago:20260207T120000
DTEND;TZID=America/Chicago:20260207T130000
DTSTAMP:20260421T063958
CREATED:20260203T170244Z
LAST-MODIFIED:20260203T170249Z
UID:24499-1770465600-1770469200@www.downtowndg.org
SUMMARY:Heated Mat Pilates Class
DESCRIPTION:Join us for an energizing crossover event as Club Pilates instructor Christy leads a dynamic heated Pilates class at YG Downers Grove! \nExperience the perfect blend of strength\, flexibility\, and sweat in this unique collaboration designed to elevate your practice in a warm\, invigorating environment. \nSaturday\, February 7th & 21st | 12:00 PM\nMembers: Class Credit | Non-Members: $30
URL:https://www.downtowndg.org/event/heated-mat-pilates-class/
LOCATION:YogaSix Downers Grove\, 980 Warren Avenue\, Downers Grove\, IL\, 60515
ATTACH;FMTTYPE=image/png:https://www.downtowndg.org/wp-content/uploads/2026/02/Y6-Heated-Pilates-Newsletter-1.png
ORGANIZER;CN="YogaSix":MAILTO:downersgrove@yogasix.com
END:VEVENT
BEGIN:VEVENT
DTSTART;TZID=America/Chicago:20260228T120000
DTEND;TZID=America/Chicago:20260228T133000
DTSTAMP:20260421T063958
CREATED:20260217T143727Z
LAST-MODIFIED:20260217T143727Z
UID:24799-1772280000-1772285400@www.downtowndg.org
SUMMARY:Love Yourself Workshop
DESCRIPTION:A 90-minute classical-inspired Restorative class with Nicki from Club Pilates. A guided meditation to love your body\, mind and heart. We will begin with gentle movements and asanas to release tension and stress to prepare the body and mind for deep relaxation and heart opening. Then we will move into restorative asanas ending with pranayama and guided meditation to feel nurtured and loved. \nSaturday\, 2/28 | 12 PM – 1:30 PM \nUNLIMITED MEMBERS: FREE | 4/8 A MONTH MEMBERS: CLASS CREDIT OR $35 | NON-MEMBERS: $40
URL:https://www.downtowndg.org/event/love-yourself-workshop/
LOCATION:YogaSix Downers Grove\, 980 Warren Avenue\, Downers Grove\, IL\, 60515
ATTACH;FMTTYPE=image/png:https://www.downtowndg.org/wp-content/uploads/2026/02/Y6-Love-Yourself-Workshop-5.png
ORGANIZER;CN="YogaSix":MAILTO:downersgrove@yogasix.com
END:VEVENT
END:VCALENDAR